BEGIN:VCALENDAR
VERSION:2.0
PRODID:-//fms/Austrosoft - ECPv5.14.2.1//NONSGML v1.0//EN
CALSCALE:GREGORIAN
METHOD:PUBLISH
X-WR-CALNAME:fms/Austrosoft
X-ORIGINAL-URL:https://www.fms.at/?lang=en
X-WR-CALDESC:Events for fms/Austrosoft
BEGIN:VTIMEZONE
TZID:Europe/Luxembourg
BEGIN:DAYLIGHT
TZOFFSETFROM:+0100
TZOFFSETTO:+0200
TZNAME:CEST
DTSTART:20190331T010000
END:DAYLIGHT
BEGIN:STANDARD
TZOFFSETFROM:+0200
TZOFFSETTO:+0100
TZNAME:CET
DTSTART:20191027T010000
END:STANDARD
END:VTIMEZONE
BEGIN:VEVENT
DTSTART;VALUE=DATE:20190527
DTEND;VALUE=DATE:20190530
DTSTAMP:20260425T154831
CREATED:20190524T134146Z
LAST-MODIFIED:20190524T134351Z
UID:10506-1558915200-1559174399@www.fms.at
SUMMARY:Eurocab 2019
DESCRIPTION:Meeting  of the Eurocab members\nTaxis Colux S.àr.l. and fms/Austrosoft cordially invite all Eurocab members to Eurocab 2019 in Luxembourg. The organizers have set themselves the task of working together on the framework conditions for a digital future for the taxi industry. It is planned to contribute to a strong networking with many open discussion rounds and to offer selected workshops for all Eurocab members in order to bring us to a common level of knowledge. We are sure that the flair of Luxembourg will actively support us in this endeavor. \n0Days0Keynote Speaker0Visitors
URL:https://www.fms.at/event/eurocab-2019/?lang=en
LOCATION:Alvisse Parc Hotel\, 120 Route d'Echternach\, Luxemburg\, 1543\, Luxemburg
ATTACH;FMTTYPE=image/jpeg:https://www.fms.at/wp-content/uploads/2016/03/Welcome-to-Luxemburg.jpg
ORGANIZER;CN="Taxis%20Colux%20S.%C3%A0r.l.":MAILTO:anmeldung@eurocab.info
END:VEVENT
END:VCALENDAR